BEGIN:VCALENDAR
VERSION:2.0
PRODID:icalendar-ruby
CALSCALE:GREGORIAN
METHOD:PUBLISH
BEGIN:VEVENT
DTSTAMP:20260421T140110Z
UID:189-7950@hhbc.org
DTSTART:20260526T150000Z
DTEND:20260526T170000Z
CLASS:PUBLIC
CREATED:20260420T135141
DESCRIPTION:If you're 55 and up\, come join us for great food\, fellowship\
 , and entertainment by Lori McClellan\, Beth Barnard &amp\; John (Drummer)
 ! Meat will be provided. Bring a dish to pass!
LAST-MODIFIED:20260420T135141
LOCATION:2511 Wade Hampton Blvd Greenville\, SC 29615
SUMMARY:Happy Hearts Senior Luncheon
URL;VALUE=URI:https://www.hhbc.org/events/happy-hearts-senior-luncheon--189
 /2026-05-26
ATTACH;FILENAME=526 HHSM - Website (1500 x 784 px).png;FMTTYPE=image/png:ht
 tps://dq5pwpg1q8ru0.cloudfront.net/2026/04/20/17/51/40/562cfaf1-294c-4bca-
 9443-b78e8c974e76/526%20HHSM%20-%20Website%20(1500%20x%20784%20px).png
END:VEVENT
END:VCALENDAR
